BEGIN:VCALENDAR
VERSION:2.0
PRODID:-//ChamberMaster//Event Calendar 2.0//EN
METHOD:PUBLISH
X-PUBLISHED-TTL:P3D
REFRESH-INTERVAL:P3D
CALSCALE:GREGORIAN
BEGIN:VEVENT
DTSTART;VALUE=DATE:20260613
DTEND;VALUE=DATE:20260615
TRANSP:TRANSPARENT
X-MICROSOFT-CDO-ALLDAYEVENT:TRUE
SUMMARY:22nd Annual Cook Forest French and Indian War Encampment
DESCRIPTION:Cook Forest will be holding their 22nd annual Cook forest French and Indian War Encampment on June 13th and 14th. Cook Forest State Park will host a series of living history events depicting life during the French and Indian War. Highlights of this full two-day encampment include children's programs\, woodland natives\, cannon and musket firing demonstrations\, sutler camp\, council and trading events\, nationally renowned living historians\, French and Indian War era artisans\, and live tactical engagements. Every battle is different! Take a walk back in time at the Sawmill Center for the Arts to view British\, Colonial\, French\, and American Indian re-enactors as they portray lifestyles of the 18th century.
X-ALT-DESC;FMTTYPE=text/html:<span style="font-size: 16px\; white-space: pre-wrap\; font-weight: bold\; color: rgb(9\, 12\, 15)\; font-family: Tahoma\, Geneva\, sans-serif\;">Cook Forest</span><span style="font-size: 16px\; white-space: pre-wrap\; color: rgb(9\, 12\, 15)\; font-family: Tahoma\, Geneva\, sans-serif\;"> will be holding their 22nd annual Cook forest French and Indian War Encampment on </span><span style="font-size: 16px\; white-space: pre-wrap\; color: rgb(85\, 38\, 151)\; font-family: Tahoma\, Geneva\, sans-serif\; font-weight: bold\;">June 13th and 14th</span><span style="font-size: 16px\; white-space: pre-wrap\; color: rgb(9\, 12\, 15)\; font-family: Tahoma\, Geneva\, sans-serif\;">. Cook Forest State Park will host a series of living history events depicting life during the French and Indian War. Highlights of this full two-day encampment include children&#39\;s programs\, woodland natives\, cannon and musket firing demonstrations\, sutler camp\, council and trading events\, nationally renowned living historians\, French and Indian War era artisans\, and live tactical engagements. Every battle is different! Take a walk back in time at the Sawmill Center for the Arts to view British\, Colonial\, French\, and American Indian re-enactors as they portray lifestyles of the 18th century. </span>
LOCATION:
UID:e.3348.4463
SEQUENCE:3
DTSTAMP:20260422T210119Z
URL:https://www.duboispachamber.com/events/details/22nd-annual-cook-forest-french-and-indian-war-encampment-4463
END:VEVENT

END:VCALENDAR
