BEGIN:VCALENDAR
VERSION:2.0
PRODID:-//ChamberMaster//Event Calendar 2.0//EN
METHOD:PUBLISH
X-PUBLISHED-TTL:P3D
REFRESH-INTERVAL:P3D
CALSCALE:GREGORIAN
BEGIN:VEVENT
DTSTART:20220703T220000Z
DTEND:20220704T020000Z
X-MICROSOFT-CDO-ALLDAYEVENT:FALSE
SUMMARY:3rd of July Celebration
DESCRIPTION:Buy a ticket for Scottish Heights Golf Club's Third of July Celebration! Tickets include a reserved table\, dinner buffet\, and live music. Local musicians Kurt Thomas and The Avenue will be performing\, plus enjoy food stations to indulge in all night.*Limited Tickets Available*
X-ALT-DESC;FMTTYPE=text/html:<span style="font-size:16px\;"><span style="font-family:tahoma\;">Buy a ticket for <strong>Scottish Heights Golf Club&#39\;s Third of July Celebration</strong>! Tickets include a reserved table\, dinner buffet\, and live music. Local musicians Kurt Thomas and The Avenue will be performing\, plus enjoy food stations to indulge in all night.*Limited Tickets Available*</span></span>
LOCATION:Scottish Heights Golf Club 287 Scottish Heights Drive Brockport\, PA
UID:e.3348.2792
SEQUENCE:3
DTSTAMP:20260421T102227Z
URL:https://www.duboispachamber.com/events/details/3rd-of-july-celebration-2792
END:VEVENT

END:VCALENDAR
