BEGIN:VCALENDAR
VERSION:2.0
PRODID:-//ChamberMaster//Event Calendar 2.0//EN
METHOD:PUBLISH
X-PUBLISHED-TTL:P3D
REFRESH-INTERVAL:P3D
CALSCALE:GREGORIAN
BEGIN:VEVENT
DTSTART;VALUE=DATE:20260530
DTEND;VALUE=DATE:20260531
TRANSP:TRANSPARENT
X-MICROSOFT-CDO-ALLDAYEVENT:TRUE
SUMMARY:4th Annual Kick the Stigma Day of Wellness
DESCRIPTION:Join us for the 4th Annual Kick the Stigma Day of Wellness on May 30th from 9am to 5pm in DuBois city Park. there will be a kickball tournament\, Pickleball tournament\, art contest\, speakers\, vendors\, and so much more! For more info\, visit the link below or call 814-299-7640. \n\n\n\nFor more info visit the following link: http://www.kickthestigma.info
X-ALT-DESC;FMTTYPE=text/html:<span style="font-size:12px\;"><span style="font-family:arial\;"><span style="font-size:16px\;"><span style="text-align: center\; white-space: pre-wrap\; color: rgb(22\, 29\, 38)\;">Join us for the 4th Annual Kick the Stigma Day of Wellness on </span><span style="text-align: center\; white-space: pre-wrap\; color: rgb(85\, 38\, 151)\; font-weight: bold\;">May 30th</span><span style="text-align: center\; white-space: pre-wrap\; color: rgb(22\, 29\, 38)\; font-weight: bold\;"> from 9am to 5pm</span><span style="text-align: center\; white-space: pre-wrap\; color: rgb(22\, 29\, 38)\;"> in </span><span style="text-align: center\; white-space: pre-wrap\; color: rgb(22\, 29\, 38)\; font-weight: bold\;">DuBois city Park</span><span style="text-align: center\; white-space: pre-wrap\; color: rgb(22\, 29\, 38)\;">. there will be a kickball tournament\, Pickleball tournament\, art contest\, speakers\, vendors\, and so much more! For more info\, visit the link below or call 814-299-7640. </span></span><br />\n<br />\nFor more info visit the following link:&nbsp\;</span></span>http://www.kickthestigma.info
LOCATION:
UID:e.3348.4462
SEQUENCE:3
DTSTAMP:20260424T095516Z
URL:https://www.duboispachamber.com/events/details/4th-annual-kick-the-stigma-day-of-wellness-4462
END:VEVENT

END:VCALENDAR
