BEGIN:VCALENDAR
VERSION:2.0
PRODID:-//ChamberMaster//Event Calendar 2.0//EN
METHOD:PUBLISH
X-PUBLISHED-TTL:P3D
REFRESH-INTERVAL:P3D
CALSCALE:GREGORIAN
BEGIN:VEVENT
DTSTART:20191223T221500Z
DTEND:20191224T001500Z
X-MICROSOFT-CDO-ALLDAYEVENT:FALSE
SUMMARY:Clearfield-Jefferson Suicide Prevention Support Group
DESCRIPTION:Healing After Suicide Loss Support Group meets every 4th Monday of the month. Light refreshment will be provided. Please RSVP if interested. In crisis? Call 24/7 800-341-5040 or 911.
X-ALT-DESC;FMTTYPE=text/html:Healing After Suicide Loss Support Group meets every 4th Monday of the month. Light refreshment will be provided. Please RSVP if interested. In crisis? Call 24/7 800-341-5040 or 911.&nbsp\;
LOCATION:Penn State DuBois Quiet Lounge\, Smeal Building College Place DuBois\, PA
UID:e.3348.588
SEQUENCE:3
DTSTAMP:20260425T210135Z
URL:https://www.duboispachamber.com/events/details/clearfield-jefferson-suicide-prevention-support-group-588
END:VEVENT

END:VCALENDAR
