BEGIN:VCALENDAR
VERSION:2.0
PRODID:-//ChamberMaster//Event Calendar 2.0//EN
METHOD:PUBLISH
X-PUBLISHED-TTL:P3D
REFRESH-INTERVAL:P3D
CALSCALE:GREGORIAN
BEGIN:VEVENT
DTSTART:20201028T170000Z
DTEND:20201028T183000Z
X-MICROSOFT-CDO-ALLDAYEVENT:FALSE
SUMMARY:Community Connections Parent Advisory Meeting
DESCRIPTION:Let your voice be heard! Join a Parent Advisory Meeting! Purpose of Parent Advisory Meetings: Improve mental health and substance use disorder services\n\nAssist in development of helpful new programs and services for children and adolescents\n\nAsk question\, share information\, and make recommendations.\n\nWho can attend? Parent or family member (biological\, adoptive\, foster\, guardian\, grandparent) of a child or adolescent who is a current Community Care member.
X-ALT-DESC;FMTTYPE=text/html:Let your voice be heard! Join a Parent Advisory Meeting! Purpose of Parent Advisory Meetings: Improve mental health and substance use disorder services<br />\nAssist in development of helpful new programs and services for children and adolescents<br />\nAsk question\, share information\, and make recommendations.<br />\nWho can attend? Parent or family member (biological\, adoptive\, foster\, guardian\, grandparent) of a child or adolescent who is a current Community Care member.
LOCATION:DCNR-Forestry Building 158 South Second Avenue Clarion\, PA 16214
UID:e.3348.1878
SEQUENCE:3
DTSTAMP:20260424T030322Z
URL:https://www.duboispachamber.com/events/details/community-connections-parent-advisory-meeting-1878
END:VEVENT

END:VCALENDAR
