BEGIN:VCALENDAR
VERSION:2.0
PRODID:-//ChamberMaster//Event Calendar 2.0//EN
METHOD:PUBLISH
X-PUBLISHED-TTL:P3D
REFRESH-INTERVAL:P3D
CALSCALE:GREGORIAN
BEGIN:VEVENT
DTSTART:20211106T130000Z
DTEND:20211106T180000Z
X-MICROSOFT-CDO-ALLDAYEVENT:FALSE
SUMMARY:Craft & Vendor Fair
DESCRIPTION:DuBois Christian Schools is hosting a Craft & Vendor Fair on their campus! Features many local artisans\, crafters\, and vendors as well as an amazing homemade bake sale and concessions! On campus that same day\, the DCS Class of 2022 will be hosting an indoor yard sale!
X-ALT-DESC;FMTTYPE=text/html:<strong><span style="color:black\;"><span style="font-family:tahoma\,sans-serif\;"><span style="font-size:12.0pt\;">DuBois Christian Schools&nbsp\;</span></span></span></strong><span style="color:black\;"><span style="font-family:tahoma\,sans-serif\;"><span style="font-size:12.0pt\;">is hosting a<strong>&nbsp\;Craft &amp\; Vendor Fair</strong>&nbsp\;on their campus!</span></span></span><span style="color:black\;"><span style="font-family:tahoma\,sans-serif\;"><span style="font-size:12.0pt\;"><strong>&nbsp\;</strong>Features many local artisans\, crafters\, and vendors as well as an amazing homemade bake sale and concessions!&nbsp\;On campus that same day\, the DCS Class of 2022 will be hosting an indoor yard sale!</span></span></span>
LOCATION:DuBois Christian Schools/First Baptist Church 197 Eastern Avenue DuBois\, PA 15801
UID:e.3348.2447
SEQUENCE:3
DTSTAMP:20260421T084500Z
URL:https://www.duboispachamber.com/events/details/craft-vendor-fair-2447
END:VEVENT

END:VCALENDAR
