BEGIN:VCALENDAR
VERSION:2.0
PRODID:-//ChamberMaster//Event Calendar 2.0//EN
METHOD:PUBLISH
X-PUBLISHED-TTL:P3D
REFRESH-INTERVAL:P3D
CALSCALE:GREGORIAN
BEGIN:VEVENT
DTSTART:20250219T140000Z
DTEND:20250219T150000Z
X-MICROSOFT-CDO-ALLDAYEVENT:FALSE
SUMMARY:Deja Brew Grand Opening
DESCRIPTION:You're INVITED to Deja Brew Coffee House's Grand Opening Celebration on February 19th from 9 am to 10 am. The event will take place at 16 N Brady Street\, DuBois. Please RSVP to the chamber by 2/17 at https://forms.office.com/r/5uCrW3JF63.
X-ALT-DESC;FMTTYPE=text/html:<p align="center" style="text-align:center"><span style="font-family:&quot\;Tahoma&quot\;\,sans-serif\;\ncolor:black">You&rsquo\;re <b>INVITED</b> to <b>Deja Brew Coffee House&rsquo\;s Grand Opening Celebration </b></span><b><span style="font-family:&quot\;Tahoma&quot\;\,sans-serif\;\ncolor:#FF33CC">on February 19<sup>th</sup></span></b><b><span style="font-family:\n&quot\;Tahoma&quot\;\,sans-serif\;color:black"> from 9 am to 10 am</span></b><span style="font-family:&quot\;Tahoma&quot\;\,sans-serif\;color:black">. The event will take place at 16 N Brady Street\, DuBois. Please <b>RSVP</b> to the chamber by 2/17 at <a href="https://forms.office.com/r/5uCrW3JF63">https://forms.office.com/r/5uCrW3JF63</a>.</span><span style="font-family:&quot\;Arial&quot\;\,sans-serif\;color:#36495F"><o:p></o:p></span></p>\n
LOCATION:
UID:e.3348.3918
SEQUENCE:3
DTSTAMP:20260422T141929Z
URL:https://www.duboispachamber.com/events/details/deja-brew-grand-opening-3918
END:VEVENT

END:VCALENDAR
