BEGIN:VCALENDAR
VERSION:2.0
PRODID:-//ChamberMaster//Event Calendar 2.0//EN
METHOD:PUBLISH
X-PUBLISHED-TTL:P3D
REFRESH-INTERVAL:P3D
CALSCALE:GREGORIAN
BEGIN:VEVENT
DTSTART;VALUE=DATE:20260522
DTEND;VALUE=DATE:20260523
TRANSP:TRANSPARENT
X-MICROSOFT-CDO-ALLDAYEVENT:TRUE
SUMMARY:DuBois Chamber of Commerce Golf Tournament
DESCRIPTION:Greater DuBois Chamber of Commerce Golf Tournament\n\nGet ready for a day on the green at the Greater DuBois Chamber Golf Tournament! This annual event brings together local business leaders and community members for a fun and competitive day of golf\, all while supporting the Chamber's community initiatives and scholarship programs. It will take place Silver Course\, Treasure Lake on May 22\, 2026. NOW ACCEPTING Sponsorships and Teams. To submit your team\, contact the chamber via email or phone at dacc@duboispachamber.com or 814-371-5010. For more information\, visit our Facebook event here: (10) DuBois Chamber Golf Tournament | Facebook
X-ALT-DESC;FMTTYPE=text/html:<p align="center" style="text-align: center\;"><span style="font-size:16px\;"><span style="font-family:tahoma\;"><b>Greater DuBois Chamber of Commerce Golf Tournament</b></span></span><span style="font-family: Arial\, sans-serif\;"><o:p></o:p></span></p>\n\n<p align="center" style="text-align: center\;"><span style="font-size:16px\;"><span style="font-family:tahoma\;">Get ready for a day on the green at the&nbsp\;<b>Greater DuBois Chamber Golf Tournament</b>! This annual event brings together local business leaders and community members for a fun and competitive day of golf\, all while supporting the Chamber&rsquo\;s community initiatives and scholarship programs. It will take place Silver Course\, Treasure Lake on&nbsp\;<b>May 22\, 2026</b>.&nbsp\;<b>NOW ACCEPTING</b>&nbsp\;Sponsorships and Teams. To submit your team\, contact the chamber via email or phone at dacc@duboispachamber.com or 814-371-5010. For more information\, visit our Facebook event here:&nbsp\;</span></span><a href="https://www.facebook.com/events/1644472870157684/?active_tab=discussion">(10) DuBois Chamber Golf Tournament | Facebook</a>&nbsp\;</p>\n
LOCATION:
UID:e.3348.4465
SEQUENCE:3
DTSTAMP:20260422T210021Z
URL:https://www.duboispachamber.com/events/details/dubois-chamber-of-commerce-golf-tournament-4465
END:VEVENT

END:VCALENDAR
