BEGIN:VCALENDAR
VERSION:2.0
PRODID:-//ChamberMaster//Event Calendar 2.0//EN
METHOD:PUBLISH
X-PUBLISHED-TTL:P3D
REFRESH-INTERVAL:P3D
CALSCALE:GREGORIAN
BEGIN:VEVENT
DTSTART:20260425T150000Z
DTEND:20260425T190000Z
X-MICROSOFT-CDO-ALLDAYEVENT:FALSE
SUMMARY:Earth Day & Arbor day Celebrations
DESCRIPTION:Come join the Elk Country Visitor Center for a weekend full of a variety of environmentally friendly crafts\, information\, and activities\, as we celebrate our support for environmental protection and importance of trees!
X-ALT-DESC;FMTTYPE=text/html:Come join the Elk Country Visitor Center for a weekend full of a variety of environmentally friendly crafts\, information\, and activities\, as we celebrate our support for environmental protection and importance of trees!&nbsp\;
LOCATION:
UID:e.3348.4456
SEQUENCE:3
DTSTAMP:20260422T205940Z
URL:https://www.duboispachamber.com/events/details/earth-day-arbor-day-celebrations-4456
END:VEVENT

END:VCALENDAR
