BEGIN:VCALENDAR
VERSION:2.0
PRODID:-//ChamberMaster//Event Calendar 2.0//EN
METHOD:PUBLISH
X-PUBLISHED-TTL:P3D
REFRESH-INTERVAL:P3D
CALSCALE:GREGORIAN
BEGIN:VEVENT
DTSTART;VALUE=DATE:20190731
DTEND;VALUE=DATE:20190801
TRANSP:TRANSPARENT
X-MICROSOFT-CDO-ALLDAYEVENT:TRUE
SUMMARY:Eight Basic Principles of Life & Success
DESCRIPTION:Eight Basic Principles of Life & Success is hosted by Square One Community. Instructors will be Peggy Caruso\, owner of Life Coaching & Beyond and Linda Weis\, owner of Linda Weis State Farm. Limited availability so sign up today at Michael@SQ1.Community
X-ALT-DESC;FMTTYPE=text/html:Eight Basic Principles of Life &amp\; Success is hosted by Square One Community. Instructors will be Peggy Caruso\, owner of Life Coaching &amp\; Beyond and Linda Weis\, owner of Linda Weis State Farm. Limited availability so sign up today at Michael@SQ1.Community
LOCATION:Life Coaching & Beyond 1590 Kiwanis Trail DuBois\, PA
UID:e.3348.424
SEQUENCE:3
DTSTAMP:20260421T114058Z
URL:https://www.duboispachamber.com/events/details/eight-basic-principles-of-life-success-424
END:VEVENT

END:VCALENDAR
