BEGIN:VCALENDAR
VERSION:2.0
PRODID:-//ChamberMaster//Event Calendar 2.0//EN
METHOD:PUBLISH
X-PUBLISHED-TTL:P3D
REFRESH-INTERVAL:P3D
CALSCALE:GREGORIAN
BEGIN:VEVENT
DTSTART:20200216T190000Z
DTEND:20200216T200000Z
X-MICROSOFT-CDO-ALLDAYEVENT:FALSE
SUMMARY:Elk Country Visitor Center River Otters
DESCRIPTION:Learn about this playful creature who adds so much mirth and merriment to our rivers and streams! Don't miss out on hearing about the river otter's history\, extirpation\, and successful reintroduction to our Pennsylvania waterways.
X-ALT-DESC;FMTTYPE=text/html:Learn about this playful creature who adds so much mirth and merriment to our rivers and streams! Don&#39\;t miss out on hearing about the river otter&#39\;s history\, extirpation\, and successful reintroduction to our Pennsylvania waterways.
LOCATION:Elk Country Visitor Center 950 Winslow Hill Road Benezette\, PA
UID:e.3348.1824
SEQUENCE:3
DTSTAMP:20260419T184405Z
URL:https://www.duboispachamber.com/events/details/elk-country-visitor-center-river-otters-1824
END:VEVENT

END:VCALENDAR
