BEGIN:VCALENDAR
VERSION:2.0
PRODID:-//ChamberMaster//Event Calendar 2.0//EN
METHOD:PUBLISH
X-PUBLISHED-TTL:P3D
REFRESH-INTERVAL:P3D
CALSCALE:GREGORIAN
BEGIN:VEVENT
DTSTART;VALUE=DATE:20250325
DTEND;VALUE=DATE:20250326
TRANSP:TRANSPARENT
X-MICROSOFT-CDO-ALLDAYEVENT:TRUE
SUMMARY:Engineering Visitation Day
DESCRIPTION:Engineering Visitation Day on Tuesday\, March 25 at 10:00 AM until 1:00 PM
X-ALT-DESC;FMTTYPE=text/html:<span style="color:#36495F\;"><span style="font-family:arial\,sans-serif\;"><span style="font-size:12.0pt\;"><a href="https://npie9xhab.cc.rs6.net/tn.jsp?f=001HjQqIiWTlxudHThQ4mOf1wEp5hkhrNQZsYXKrN9mv4gjRrenl12zJIHwklPLB1ENPzAMMQwXPyzGJe38bkVRf0JHESoZXKRvKP_2-3jJ85OOEUbV0aa9im5FoHMLcrjdG5yx1tu5CvML_TrrCFVEGiC4FH5hVjIS9tEqGgjj7vkWjAsjvZ8vF3d9bmhncJIY0VhhyKzgL1Sv9mt2nnK5sgiRUpW-CwOk&amp\;c=WvBdZxZgPoxK1uzDmQU68jUdhDoGJqhJYAhKddc1ExiuJbgUC-UpUg==&amp\;ch=ylrKB0BSCOlbQNYin2BLCcPvhv1XQF-FJhlcG7d_C40g6Z7qg3G9HQ==" target="_blank"><strong><span style="color:black\;"><span style="font-family:tahoma\,sans-serif\;"><span style="font-size:11.5pt\;">Engineering</span></span></span></strong></a></span></span></span> <span style="color:black\;"><span style="font-family:tahoma\,sans-serif\;"><span style="font-size:11.5pt\;">Visitation Day on </span></span></span><strong><span style="color:#124511\;"><span style="font-family:tahoma\,sans-serif\;"><span style="font-size:11.5pt\;">Tuesday\, March 25 </span></span></span></strong><span style="color:black\;"><span style="font-family:tahoma\,sans-serif\;"><span style="font-size:11.5pt\;">at 10:00 AM until 1:00 PM</span></span></span>
LOCATION:
UID:e.3348.3945
SEQUENCE:3
DTSTAMP:20260420T020721Z
URL:https://www.duboispachamber.com/events/details/engineering-visitation-day-3945
END:VEVENT

END:VCALENDAR
