BEGIN:VCALENDAR
VERSION:2.0
PRODID:-//ChamberMaster//Event Calendar 2.0//EN
METHOD:PUBLISH
X-PUBLISHED-TTL:P3D
REFRESH-INTERVAL:P3D
CALSCALE:GREGORIAN
BEGIN:VEVENT
DTSTART:20220326T190000Z
DTEND:20220326T230000Z
X-MICROSOFT-CDO-ALLDAYEVENT:FALSE
SUMMARY:Give For Kids Night
DESCRIPTION:The Sub Hub in Reynoldsville has teamed up with the First Class Children's Foundation for "Give for Kids Night". Purchase a delicious sandwich from the Sub Hub to support First Class Children's Foundation. First Class Children's Foundation has donated thousands of dollars worth of school supplies\, Scholastic books\, Christmas presents\, clothes\, and shoes to local children since it's inception in 2017. Plus new 2022 First Class merchandise will be on sale!
X-ALT-DESC;FMTTYPE=text/html:<span style="font-size:16px\;"><span style="font-family:tahoma\;"><strong>The Sub Hub</strong> in Reynoldsville has teamed up with the First Class Children&#39\;s Foundation for &quot\;<strong>Give for Kids Night</strong>&quot\;. Purchase a delicious sandwich from the Sub Hub to support First Class Children&#39\;s Foundation. First Class Children&#39\;s Foundation has donated thousands of dollars worth of school supplies\, Scholastic books\, Christmas presents\, clothes\, and shoes to local children since it&#39\;s inception in 2017. Plus new 2022 First Class merchandise will be on sale!</span></span>
LOCATION:The Sub Hub 417 East Main Street Reynoldsville\, PA 15851
UID:e.3348.2647
SEQUENCE:3
DTSTAMP:20260421T104028Z
URL:https://www.duboispachamber.com/events/details/give-for-kids-night-2647
END:VEVENT

END:VCALENDAR
