BEGIN:VCALENDAR
VERSION:2.0
PRODID:-//ChamberMaster//Event Calendar 2.0//EN
METHOD:PUBLISH
X-PUBLISHED-TTL:P3D
REFRESH-INTERVAL:P3D
CALSCALE:GREGORIAN
BEGIN:VEVENT
DTSTART:20210421T140000Z
DTEND:20210421T200000Z
X-MICROSOFT-CDO-ALLDAYEVENT:FALSE
SUMMARY:Grand Opening: House to Home
DESCRIPTION:Stop by the NEW House to Home located on 49 West Long Avenue for the business's grand opening!! House to Home has gently used furniture and home goods for resale at affordable prices!
X-ALT-DESC;FMTTYPE=text/html:<span style="font-size:16px\;"><span style="font-family:tahoma\;">Stop by the NEW House to Home located on 49 West Long Avenue for the business&#39\;s grand opening!! House to Home has gently used furniture and home goods for resale at affordable prices!</span></span>
LOCATION:49 West Long Avenue DuBois\, PA 15801
UID:e.3348.2246
SEQUENCE:3
DTSTAMP:20260421T055436Z
URL:https://www.duboispachamber.com/events/details/grand-opening-house-to-home-2246
END:VEVENT

END:VCALENDAR
