BEGIN:VCALENDAR
VERSION:2.0
PRODID:-//ChamberMaster//Event Calendar 2.0//EN
METHOD:PUBLISH
X-PUBLISHED-TTL:P3D
REFRESH-INTERVAL:P3D
CALSCALE:GREGORIAN
BEGIN:VEVENT
DTSTART:20241107T230000Z
DTEND:20241108T010000Z
X-MICROSOFT-CDO-ALLDAYEVENT:FALSE
SUMMARY:Hammer and Stain "Christmas Ornament'
DESCRIPTION:Hammer and Stain has weekly ADULT ONLY classes throughout August and September.\n\n-On November 7th at 6:00pm they are hosting "Christmas Ornament Workshop" at The Avenue West\, DuBois. Cost is $25\n\nClasses close 3 Days prior to the event so please register early at https://hammerandstaindubois.com/
X-ALT-DESC;FMTTYPE=text/html:<p><b><span style="font-family:&quot\;Tahoma&quot\;\,sans-serif\;color:black">Hammer and Stain</span></b><span style="font-family:&quot\;Tahoma&quot\;\,sans-serif\;color:black">&nbsp\;has weekly&nbsp\;<b>ADULT ONLY</b>&nbsp\;classes throughout August and September.</span><span style="font-family:&quot\;Arial&quot\;\,sans-serif\;color:#36495F"><o:p></o:p></span></p>\n\n<p><span style="font-family:&quot\;Tahoma&quot\;\,sans-serif\;color:black">-On&nbsp\;</span><b><span style="font-family:&quot\;Tahoma&quot\;\,sans-serif\;color:#A02B93">November 7<sup>th</sup> </span></b><span style="font-family:&quot\;Tahoma&quot\;\,sans-serif\;color:black">at 6:00pm they are hosting &ldquo\;Christmas Ornament Workshop&rdquo\; at The Avenue West\, DuBois. Cost is $25</span><span style="font-family:&quot\;Arial&quot\;\,sans-serif\;color:#36495F"><o:p></o:p></span></p>\n\n<p><span style="font-family:&quot\;Tahoma&quot\;\,sans-serif\;color:black">Classes close 3 Days prior to the event so please&nbsp\;<b>register early at</b>&nbsp\;</span><span style="font-family:&quot\;Arial&quot\;\,sans-serif\;color:#36495F"><a href="https://npie9xhab.cc.rs6.net/tn.jsp?f=001od6MHLkMsydXh5LJWGg2L6DPM1TUYAteCxwwiPUOY5jaEJRGqoYzR_2N-MJqlTbtct8eO6BCiOstWeEfstm7_ro3cHKOhL2cTQYubRsI2yschPbL8RKNB4-R9AM6ahm_ePIsn3kyZNSWP935KCC8t_3hFoE7obiS&amp\;c=&amp\;ch=" target="_blank"><span style="font-family:&quot\;Tahoma&quot\;\,sans-serif\;color:black">https://hammerandstaindubois.com/</span></a><o:p></o:p></span></p>\n\n<p><span style="font-family:&quot\;Tahoma&quot\;\,sans-serif\;color:#36495F">&nbsp\;</span><span style="font-family:&quot\;Arial&quot\;\,sans-serif\;color:#36495F"><o:p></o:p></span></p>\n
LOCATION:The Avenue West\, Dubois
UID:e.3348.3862
SEQUENCE:3
DTSTAMP:20260421T175252Z
URL:https://www.duboispachamber.com/events/details/hammer-and-stain-christmas-ornament-3862
END:VEVENT

END:VCALENDAR
