BEGIN:VCALENDAR
VERSION:2.0
PRODID:-//ChamberMaster//Event Calendar 2.0//EN
METHOD:PUBLISH
X-PUBLISHED-TTL:P3D
REFRESH-INTERVAL:P3D
CALSCALE:GREGORIAN
BEGIN:VEVENT
DTSTART:20241107T230000Z
DTEND:20241108T010000Z
X-MICROSOFT-CDO-ALLDAYEVENT:FALSE
SUMMARY:Invictus
DESCRIPTION:Join Invictus on November 7th from 6 pm to 8 pm to help raise awareness of the need for families willing to foster to adopt children in need! FREE Event for adults and children - Arcade\, Throwing & Food. CYFS staff and current foster families on sight answering any fostering questions you may have! We hope YOU will consider opening your home to a child in need.
X-ALT-DESC;FMTTYPE=text/html:<p><span style="font-family:&quot\;Tahoma&quot\;\,sans-serif\;color:black">Join <b>Invictus on </b></span><b><span style="font-family:&quot\;Tahoma&quot\;\,sans-serif\;color:#A02B93">November 7<sup>th</sup> from 6 pm to 8 pm </span></b><span style="font-family:&quot\;Tahoma&quot\;\,sans-serif\;\ncolor:black">to help raise awareness of the need for families willing to foster to adopt children in need! FREE Event for adults and children - Arcade\, Throwing &amp\; Food. CYFS staff and current foster families on sight answering any fostering questions you may have! We hope YOU will consider opening your home to a child in need.</span><span style="font-family:&quot\;Arial&quot\;\,sans-serif\;\ncolor:#36495F"><o:p></o:p></span></p>\n
LOCATION:
UID:e.3348.3863
SEQUENCE:3
DTSTAMP:20260424T105321Z
URL:https://www.duboispachamber.com/events/details/invictus-3863
END:VEVENT

END:VCALENDAR
