BEGIN:VCALENDAR
VERSION:2.0
PRODID:-//ChamberMaster//Event Calendar 2.0//EN
METHOD:PUBLISH
X-PUBLISHED-TTL:P3D
REFRESH-INTERVAL:P3D
CALSCALE:GREGORIAN
BEGIN:VEVENT
DTSTART:20260506T170000Z
DTEND:20260507T010000Z
X-MICROSOFT-CDO-ALLDAYEVENT:FALSE
SUMMARY:Lumber Heritage Region Celebration Dinner
DESCRIPTION:You're invited to the Lumber Heritage Region Celebration dinner where they will be celebrating 25 years! This lively celebration will be taking place on May 6th from 1-8:30pm at The View\, LLC. The schedule is as follows:\n\n \n\n \n\n\n	1:00 2:00 PM   Optional Forest Bathing Experience (First 20 people\, weather permitting\, changing Area provided) \n	3:00 5:00 PM   Networking Reception \n	5:00 6:00 PM   Welcome & Opening Remarks + 25 Years of LHR Presentation \n	6:00 7:00 PM   Dinner \n	7:00 7:30 PM   Awards\, Closing Remarks & Thanks \n	7:30 8:30 PM   Fireside Chats & Stories \n\n\n \n\nRegistration is required with the early bird special being $45 per person\, regular rate (April 1st-April 15th) being $50. No tickets are being sold at the door\, and full name attendance is required since there will be no physical tickets sold. \n\nRegistration closes on April 15th. Register at the link below.\n\nThe View is located at 970 Six Mile Rd\, Phillipsburg\, PA\n\nLink for ticket purchasing: https://lumberheritage.org/product/lhr-celebration-dinner-sponsorship/
X-ALT-DESC;FMTTYPE=text/html:<p style="margin: 0px\; padding: 0px\; color: rgb(54\, 73\, 95)\; font-family: Arial\, Verdana\, Helvetica\, sans-serif\; font-size: 16px\; text-align: center\; white-space: pre-wrap\;"><span style="color: rgb(22\, 29\, 38)\; font-family: Tahoma\, Geneva\, sans-serif\;">You&#39\;re invited to the Lumber Heritage Region Celebration dinner where they will be celebrating 25 years! This lively celebration will be taking place on </span><span style="color: rgb(85\, 38\, 151)\; font-family: Tahoma\, Geneva\, sans-serif\; font-weight: bold\;">May 6th from 1-8:30pm</span><span style="color: rgb(22\, 29\, 38)\; font-family: Tahoma\, Geneva\, sans-serif\;"> at The View\, LLC. The schedule is as follows:</span></p>\n\n<p style="margin: 0px\; padding: 0px\; color: rgb(54\, 73\, 95)\; font-family: Arial\, Verdana\, Helvetica\, sans-serif\; font-size: 16px\; text-align: center\; white-space: pre-wrap\;">&nbsp\;</p>\n\n<p style="margin: 0px\; padding: 0px\; color: rgb(54\, 73\, 95)\; font-family: Arial\, Verdana\, Helvetica\, sans-serif\; font-size: 16px\; text-align: center\; white-space: pre-wrap\;">&nbsp\;</p>\n\n<ul style="margin: 0px 0px 0px 40px\; padding: 0px\; color: rgb(54\, 73\, 95)\; font-family: Arial\, Verdana\, Helvetica\, sans-serif\; font-size: 16px\; text-align: center\; white-space: pre-wrap\;">\n	<li style="list-style-position: unset\; padding: 0px\; margin: 0px\; color: rgb(22\, 29\, 38)\; text-align: left\;"><span style="font-family: Tahoma\, Geneva\, sans-serif\;">1:00&ndash\;2:00 PM &mdash\; Optional Forest Bathing Experience (</span><span style="font-family: Tahoma\, Geneva\, sans-serif\; font-style: italic\;">First 20 people\,&nbsp\;</span><span style="font-family: Tahoma\, Geneva\, sans-serif\;">weather permitting</span><span style="font-family: Tahoma\, Geneva\, sans-serif\; font-style: italic\;">\, changing Area provided</span><span style="font-family: Tahoma\, Geneva\, sans-serif\;">) </span></li>\n	<li style="list-style-position: unset\; padding: 0px\; margin: 0px\; color: rgb(22\, 29\, 38)\; text-align: left\;"><span style="font-family: Tahoma\, Geneva\, sans-serif\;">3:00&ndash\;5:00 PM &mdash\; Networking Reception </span></li>\n	<li style="list-style-position: unset\; padding: 0px\; margin: 0px\; color: rgb(22\, 29\, 38)\; text-align: left\;"><span style="font-family: Tahoma\, Geneva\, sans-serif\;">5:00&ndash\;6:00 PM &mdash\; Welcome &amp\; Opening Remarks + 25 Years of LHR Presentation </span></li>\n	<li style="list-style-position: unset\; padding: 0px\; margin: 0px\; color: rgb(22\, 29\, 38)\; text-align: left\;"><span style="font-family: Tahoma\, Geneva\, sans-serif\;">6:00&ndash\;7:00 PM &mdash\; Dinner </span></li>\n	<li style="list-style-position: unset\; padding: 0px\; margin: 0px\; color: rgb(22\, 29\, 38)\; text-align: left\;"><span style="font-family: Tahoma\, Geneva\, sans-serif\;">7:00&ndash\;7:30 PM &mdash\; Awards\, Closing Remarks &amp\; Thanks </span></li>\n	<li style="list-style-position: unset\; padding: 0px\; margin: 0px\; color: rgb(22\, 29\, 38)\; text-align: left\;"><span style="font-family: Tahoma\, Geneva\, sans-serif\;">7:30&ndash\;8:30 PM &mdash\; Fireside Chats &amp\; Stories&nbsp\;</span></li>\n</ul>\n\n<p style="margin: 0px\; padding: 0px\; color: rgb(54\, 73\, 95)\; font-family: Arial\, Verdana\, Helvetica\, sans-serif\; font-size: 16px\; text-align: center\; white-space: pre-wrap\;"><span style="color: rgb(22\, 29\, 38)\; font-family: Tahoma\, Geneva\, sans-serif\;">&#65279\;</span></p>\n\n<p style="margin: 0px\; padding: 0px\; color: rgb(54\, 73\, 95)\; font-family: Arial\, Verdana\, Helvetica\, sans-serif\; font-size: 16px\; text-align: center\; white-space: pre-wrap\;"><span style="color: rgb(22\, 29\, 38)\; font-family: Tahoma\, Geneva\, sans-serif\;">Registration is required with the early bird special being $45 per person\, regular rate (April 1st-April 15th) being $50. No tickets are being sold at the door\, and full name attendance is required since there will be no physical tickets sold. </span></p>\n\n<p style="margin: 0px\; padding: 0px\; color: rgb(54\, 73\, 95)\; font-family: Arial\, Verdana\, Helvetica\, sans-serif\; font-size: 16px\; text-align: center\; white-space: pre-wrap\;"><span style="color: rgb(22\, 29\, 38)\; font-family: Tahoma\, Geneva\, sans-serif\;">Registration closes on April 15th. Register at the link below.</span></p>\n\n<p style="margin: 0px\; padding: 0px\; color: rgb(54\, 73\, 95)\; font-family: Arial\, Verdana\, Helvetica\, sans-serif\; font-size: 16px\; text-align: center\; white-space: pre-wrap\;"><span style="color: rgb(22\, 29\, 38)\; font-family: Tahoma\, Geneva\, sans-serif\;">The View is located at 970 Six Mile Rd\, Phillipsburg\, PA<br />\nLink for ticket purchasing: </span>https://lumberheritage.org/product/lhr-celebration-dinner-sponsorship/</p>\n
LOCATION:
UID:e.3348.4461
SEQUENCE:3
DTSTAMP:20260422T205940Z
URL:https://www.duboispachamber.com/events/details/lumber-heritage-region-celebration-dinner-4461
END:VEVENT

END:VCALENDAR
