BEGIN:VCALENDAR
VERSION:2.0
PRODID:-//ChamberMaster//Event Calendar 2.0//EN
METHOD:PUBLISH
X-PUBLISHED-TTL:P3D
REFRESH-INTERVAL:P3D
CALSCALE:GREGORIAN
BEGIN:VEVENT
DTSTART:20260426T180000Z
DTEND:20260426T200000Z
X-MICROSOFT-CDO-ALLDAYEVENT:FALSE
SUMMARY:Salamander Safari
DESCRIPTION:Did you ever want to know what salamanders live in PA? come join the Con-Ed staff as we explore the different salamander species in PA as well as learn different methods on conducting a population count. After the program\, we will be going for a walk to look for salamanders on the visitor center property to find these amazing creatures. The Elk Country Visitor Center is located at 143 Homestead Drive\, Benezette.
X-ALT-DESC;FMTTYPE=text/html:Did you ever want to know what salamanders live in PA? come join the Con-Ed staff as we explore the different salamander species in PA as well as learn different methods on conducting a population count. After the program\, we will be going for a walk to look for salamanders on the visitor center property to find these amazing creatures. The Elk Country Visitor Center is located at 143 Homestead Drive\, Benezette.&nbsp\;
LOCATION:
UID:e.3348.4457
SEQUENCE:3
DTSTAMP:20260422T205639Z
URL:https://www.duboispachamber.com/events/details/salamander-safari-4457
END:VEVENT

END:VCALENDAR
