BEGIN:VCALENDAR
VERSION:2.0
PRODID:-//ChamberMaster//Event Calendar 2.0//EN
METHOD:PUBLISH
X-PUBLISHED-TTL:P3D
REFRESH-INTERVAL:P3D
CALSCALE:GREGORIAN
BEGIN:VEVENT
DTSTART:20250301T180000Z
DTEND:20250301T220000Z
X-MICROSOFT-CDO-ALLDAYEVENT:FALSE
SUMMARY:Small Bites & Flights wine & food pairing!
DESCRIPTION:Join The Winery at Wilcox in DuBois on Saturday March 1st for our first Small Bites & Flights wine & food pairing! The pairing will be available between 1 and 5pm that day! Sip on 5 - 1 oz samples of dry or sweet wines that have been carefully selected to complement an assortment of 5 delicious house-made sweet treats! $20 plus tax per person! RSVP & Pay in-store\, online by clicking the link in the "Find Tickets" section or by calling 814-375-6885 by 2/26!
X-ALT-DESC;FMTTYPE=text/html:<p align="center" style="text-align:center"><span style="font-family:&quot\;Tahoma&quot\;\,sans-serif\;\ncolor:black">Join <b>The Winery at Wilcox in DuBois</b> on </span><b><span style="font-family:&quot\;Tahoma&quot\;\,sans-serif\;color:#196B24">Saturday March 1st</span></b><span style="font-family:&quot\;Tahoma&quot\;\,sans-serif\;color:#196B24"> </span><span style="font-family:&quot\;Tahoma&quot\;\,sans-serif\;color:black">for our first <b>Small Bites &amp\; Flights wine &amp\; food pairing</b>! The pairing will be available between 1 and 5pm that day! Sip on 5 - 1 oz samples of dry or sweet wines that have been carefully selected to complement an assortment of 5 delicious house-made sweet treats! $20 plus tax per person! RSVP &amp\; Pay in-store\, online by clicking the link in the &quot\;Find Tickets&quot\; section or by calling 814-375-6885 by 2/26!</span><span style="font-family:&quot\;Arial&quot\;\,sans-serif\;\ncolor:#36495F"><o:p></o:p></span></p>\n\n<p align="center" style="text-align:center"><span style="font-family:&quot\;Tahoma&quot\;\,sans-serif\;\ncolor:#36495F">&nbsp\;</span><span style="font-family:&quot\;Arial&quot\;\,sans-serif\;\ncolor:#36495F"><o:p></o:p></span></p>\n
LOCATION:
UID:e.3348.3926
SEQUENCE:3
DTSTAMP:20260420T170306Z
URL:https://www.duboispachamber.com/events/details/small-bites-flights-wine-food-pairing-3926
END:VEVENT

END:VCALENDAR
