BEGIN:VCALENDAR
VERSION:2.0
PRODID:-//ChamberMaster//Event Calendar 2.0//EN
METHOD:PUBLISH
X-PUBLISHED-TTL:P3D
REFRESH-INTERVAL:P3D
CALSCALE:GREGORIAN
BEGIN:VEVENT
DTSTART:20260623T130000Z
DTEND:20260623T193000Z
X-MICROSOFT-CDO-ALLDAYEVENT:FALSE
SUMMARY:Teen Trend Seminar hosted by SPARC
DESCRIPTION:SPARC will be hosting a Teen Trend Seminar on June 23rd from 9am to 3:30pm at Penn State DuBois. This seminar is where parents\, school personnel\, community members and various organizations gather together for a day of learning and becoming family with emerging and rising teen trends involving drug and alcohol use\, mental health concerns\, internet safety\, violence and more. Speaker sessions during the seminar will equip attendees with the information\, tools\, and resources they need to begin having important and necessary conversations with teens in their personal and/or professional lives.
X-ALT-DESC;FMTTYPE=text/html:<span style="font-size: 16px\; text-align: center\; white-space: pre-wrap\; font-weight: bold\; font-family: Tahoma\, Geneva\, sans-serif\;">SPARC </span><span style="font-size: 16px\; text-align: center\; white-space: pre-wrap\; font-family: Tahoma\, Geneva\, sans-serif\;">will be hosting a Teen Trend Seminar on</span><span style="font-size: 16px\; text-align: center\; white-space: pre-wrap\; font-family: Tahoma\, Geneva\, sans-serif\;"> </span><span style="font-size: 16px\; text-align: center\; white-space: pre-wrap\; font-weight: bold\; font-family: Tahoma\, Geneva\, sans-serif\;">June 23rd from 9am to 3:30pm</span><span style="font-size: 16px\; text-align: center\; white-space: pre-wrap\; font-family: Tahoma\, Geneva\, sans-serif\;"> </span><span style="font-size: 16px\; text-align: center\; white-space: pre-wrap\; font-family: Tahoma\, Geneva\, sans-serif\;">at Penn State DuBois. This seminar is where parents\, school personnel\, community members and various organizations gather together for a day of learning and becoming family with emerging and rising teen trends involving drug and alcohol use\, mental health concerns\, internet safety\, violence and more. Speaker sessions during the seminar will equip attendees with the information\, tools\, and resources they need to begin having important and necessary conversations with teens in their personal and/or professional lives. </span>
LOCATION:
UID:e.3348.4464
SEQUENCE:3
DTSTAMP:20260424T082443Z
URL:https://www.duboispachamber.com/events/details/teen-trend-seminar-hosted-by-sparc-4464
END:VEVENT

END:VCALENDAR
