BEGIN:VCALENDAR
VERSION:2.0
PRODID:-//ChamberMaster//Event Calendar 2.0//EN
METHOD:PUBLISH
X-PUBLISHED-TTL:P3D
REFRESH-INTERVAL:P3D
CALSCALE:GREGORIAN
BEGIN:VEVENT
DTSTART:20260425T230000Z
DTEND:20260426T010000Z
X-MICROSOFT-CDO-ALLDAYEVENT:FALSE
SUMMARY:"The Guy Who Didn't Like Musicals" showing at the Reitz Theater
DESCRIPTION:Doors open at 7pm. reserved seating tickets are $20 and can be purchased through the Box Office at 814-375-4274 or online at the link below. This show is meant for mature audiences and contains adult language and content. Buy your tickets here: http://www.reitztheater.com
X-ALT-DESC;FMTTYPE=text/html:Doors open at 7pm. reserved seating tickets are $20 and can be purchased through the Box Office at 814-375-4274 or online at the link below. This show is meant for mature audiences and contains adult language and content. Buy your tickets here:&nbsp\;<span data-qe-id="palette-insert-link-truncate-left-segment" style="white-space: nowrap\; color: rgb(63\, 75\, 99)\; font-family: CTSans\, &quot\;Helvetica Neue&quot\;\, Arial\, sans-serif\; font-size: 16px\; box-sizing: border-box\; vertical-align: middle\; flex: 0 1 auto\; overflow: hidden\; text-overflow: ellipsis\;">http://www.reitzt</span><span data-qe-id="palette-insert-link-truncate-right-segment" style="white-space: nowrap\; color: rgb(63\, 75\, 99)\; font-family: CTSans\, &quot\;Helvetica Neue&quot\;\, Arial\, sans-serif\; font-size: 16px\; box-sizing: border-box\; vertical-align: middle\;">heater.com&nbsp\;</span>
LOCATION:
UID:e.3348.4460
SEQUENCE:3
DTSTAMP:20260422T210538Z
URL:https://www.duboispachamber.com/events/details/the-guy-who-didn-t-like-musicals-showing-at-the-reitz-theater-4460
END:VEVENT

END:VCALENDAR
