BEGIN:VCALENDAR
VERSION:2.0
PRODID:-//ChamberMaster//Event Calendar 2.0//EN
METHOD:PUBLISH
X-PUBLISHED-TTL:P3D
REFRESH-INTERVAL:P3D
CALSCALE:GREGORIAN
BEGIN:VEVENT
DTSTART:20240802T210000Z
DTEND:20240803T000000Z
X-MICROSOFT-CDO-ALLDAYEVENT:FALSE
SUMMARY:Unity Appreciation Night
DESCRIPTION:TURNaBOUT Boxing is helping host a Unity Appreciation Night for all City of DuBois personnel and immediate family on Friday\, August 2nd at DuBois City Pool. Join them for a night of fun and splashing around!
X-ALT-DESC;FMTTYPE=text/html:<strong><span style="color:#050505\;"><span style="font-family:tahoma\,sans-serif\;"><span style="font-size:12.0pt\;">TURNaBOUT Boxing</span></span></span></strong><span style="color:#050505\;"><span style="font-family:tahoma\,sans-serif\;"><span style="font-size:12.0pt\;"> is helping host a <strong>Unity Appreciation Night </strong>for all <strong>City of DuBois personnel and immediate family</strong> on </span></span></span><strong><span style="color:#E25E0C\;"><span style="font-family:tahoma\,sans-serif\;"><span style="font-size:12.0pt\;">Friday\, August 2<sup>nd</sup></span></span></span></strong> <span style="color:#050505\;"><span style="font-family:tahoma\,sans-serif\;"><span style="font-size:12.0pt\;">at <strong>DuBois City Pool</strong>. Join them for a night of fun and splashing around!</span></span></span>
LOCATION:DuBois City Pool
UID:e.3348.3779
SEQUENCE:3
DTSTAMP:20260424T194247Z
URL:https://www.duboispachamber.com/events/details/unity-appreciation-night-3779
END:VEVENT

END:VCALENDAR
