BEGIN:VCALENDAR
VERSION:2.0
PRODID:-//ChamberMaster//Event Calendar 2.0//EN
METHOD:PUBLISH
X-PUBLISHED-TTL:P3D
REFRESH-INTERVAL:P3D
CALSCALE:GREGORIAN
BEGIN:VEVENT
DTSTART:20240802T210000Z
DTEND:20240803T000000Z
X-MICROSOFT-CDO-ALLDAYEVENT:FALSE
SUMMARY:Unity Night
DESCRIPTION:Join Sunny 106 for Unity Night on Friday\, August 2nd. This is a free night for family fun for all! There will be police cars\, firetrucks\, petting zoo\, balloon artists\, food\, and much more! The fun will take place from 5pm-8pm at DuBois City Park.
X-ALT-DESC;FMTTYPE=text/html:<span style="color:#050505\;"><span style="font-family:tahoma\,sans-serif\;"><span style="font-size:12.0pt\;">Join <strong>Sunny 106 for Unity Night</strong> on </span></span></span><strong><span style="color:#E25E0C\;"><span style="font-family:tahoma\,sans-serif\;"><span style="font-size:12.0pt\;">Friday\, August 2<sup>nd</sup></span></span></span></strong><span style="color:#050505\;"><span style="font-family:tahoma\,sans-serif\;"><span style="font-size:12.0pt\;">. This is a <strong>free night for family fun for all</strong>! There will be police cars\, firetrucks\, petting zoo\, balloon artists\, food\, and much more! The fun will take place from <strong>5pm-8pm</strong> <strong>at DuBois City Park</strong>.</span></span></span>
LOCATION:DuBois City Park
UID:e.3348.3778
SEQUENCE:3
DTSTAMP:20260425T180504Z
URL:https://www.duboispachamber.com/events/details/unity-night-3778
END:VEVENT

END:VCALENDAR
