BEGIN:VCALENDAR
VERSION:2.0
PRODID:-//ChamberMaster//Event Calendar 2.0//EN
METHOD:PUBLISH
X-PUBLISHED-TTL:P3D
REFRESH-INTERVAL:P3D
CALSCALE:GREGORIAN
BEGIN:VEVENT
DTSTART;VALUE=DATE:20210213
DTEND;VALUE=DATE:20210214
TRANSP:TRANSPARENT
X-MICROSOFT-CDO-ALLDAYEVENT:TRUE
SUMMARY:Valentine's Box Pick Up
DESCRIPTION:Do something special for your valentine this year and order a Valentine boxfrom Carriage House Creations\, Maria's Fresh Pasta\, and Hockman Candy!\n\n\n\nEnjoy local pick up and order DINNER FOR TWO that includes   pound of fettuccini (beet or roasted pepper) from Maria's Fresh Pasta\, choice of sauce (Isabella or Modesto)\, choice of chocolate jar (chocolate covered strawberry\, double chocolate raspberry truffle\, or chocolate raspberry chipotle) and Hockman Candy (choice of 1/2 pound box - peanut butter meltaway or chocolate covered cherry) for only $27.95. \n\n\n\nValentine DINNER FOR TWO is available by mail by visiting www.carriagehousecreations.com  for only $27.95. (Fresh pasta not included). If your Valentine is "HOT STUFF" or likes "HOT STUFF"\, order a box of hot olive salsa\, hot pepper mustard\, hot pepper jam (all full-size jars) for $19.95. For the chocolate lover\, order the "CHOCLOATE LOVE" box that includes all three jars of 4-ounce chocolate sauces: chocolate covered strawberry\, double chocolate raspberry truffle\, or chocolate raspberry chipotle for $15.95.\n\n\n\nAll orders can be placed online at www.carriagehousecreations.com or by phone 2/5/2021.
X-ALT-DESC;FMTTYPE=text/html:<span style="font-size: 16px\; color: rgb(0\, 0\, 0)\; font-family: Tahoma\, Geneva\, sans-serif\;">Do something special for your valentine this year and order a&nbsp\;</span><span style="font-size: 16px\; color: rgb(0\, 0\, 0)\; font-family: Tahoma\, Geneva\, sans-serif\; font-weight: bold\;">Valentine box</span><span style="font-size: 16px\; color: rgb(0\, 0\, 0)\; font-family: Tahoma\, Geneva\, sans-serif\;">from&nbsp\;</span><span style="font-size: 16px\; color: rgb(0\, 0\, 0)\; font-family: Tahoma\, Geneva\, sans-serif\; font-weight: bold\;">Carriage House Creations\, Maria&rsquo\;s Fresh Pasta\, and Hockman Candy</span><span style="font-size: 16px\; color: rgb(0\, 0\, 0)\; font-family: Tahoma\, Geneva\, sans-serif\;">!<br />\n<br />\nEnjoy local pick up and order&nbsp\;</span><span style="font-size: 16px\; color: rgb(0\, 0\, 0)\; font-family: Tahoma\, Geneva\, sans-serif\; font-weight: bold\;">DINNER FOR TWO&nbsp\;</span><span style="font-size: 16px\; color: rgb(0\, 0\, 0)\; font-family: Tahoma\, Geneva\, sans-serif\;">that includes &frac12\; pound of fettuccini (beet or roasted pepper) from Maria&rsquo\;s Fresh Pasta\, choice of sauce (Isabella or Modesto)\, choice of chocolate jar (chocolate covered strawberry\, double chocolate raspberry truffle\, or chocolate raspberry chipotle) and Hockman Candy (choice of 1/2 pound box - peanut butter meltaway or chocolate covered cherry) for only $27.95.&nbsp\;</span><br />\n<br />\n<span style="font-size: 16px\; font-family: Tahoma\, Geneva\, sans-serif\; color: rgb(0\, 0\, 0)\;">Valentine&nbsp\;</span><span style="font-size: 16px\; font-family: Tahoma\, Geneva\, sans-serif\; color: rgb(0\, 0\, 0)\; font-weight: bold\;">DINNER FOR TWO</span><span style="font-size: 16px\; font-family: Tahoma\, Geneva\, sans-serif\; color: rgb(0\, 0\, 0)\;">&nbsp\;is available by mail by visiting&nbsp\;</span><a data-saferedirecturl="https://www.google.com/url?q=http://r20.rs6.net/tn.jsp?f%3D001fwJteCMDSu9ehFADj7Fws90eqqjwcJOLXWbSqjcibTr-QI9pzRhZRxlI9fWsKrK5opSibOilUywQfPPqcdl5AJntMwfff2_lGJybfhLPRT6jNA48warC-rLBFlJv5xdDhoUSFbRliieeKU3OGQmGhsTthKcZcto7%26c%3DU58hGBQGB7lAESaxi7RpVlMAl3j_8YbD_-rRREbnSwMYs2D7QpscPg%3D%3D%26ch%3Dz1rkFMPtN-_1mwGYu_AenDwM2RaThIvgWx1TriKL1s-fFVLH_mb6nw%3D%3D&amp\;source=gmail&amp\;ust=1611109083838000&amp\;usg=AFQjCNEtf6JH3Pb9r1c_GKi1oWeKV5TCAg" href="http://r20.rs6.net/tn.jsp?f=001fwJteCMDSu9ehFADj7Fws90eqqjwcJOLXWbSqjcibTr-QI9pzRhZRxlI9fWsKrK5opSibOilUywQfPPqcdl5AJntMwfff2_lGJybfhLPRT6jNA48warC-rLBFlJv5xdDhoUSFbRliieeKU3OGQmGhsTthKcZcto7&amp\;c=U58hGBQGB7lAESaxi7RpVlMAl3j_8YbD_-rRREbnSwMYs2D7QpscPg==&amp\;ch=z1rkFMPtN-_1mwGYu_AenDwM2RaThIvgWx1TriKL1s-fFVLH_mb6nw==" rel="noopener noreferrer" style="font-size: 16px\; color: rgb(72\, 161\, 153)\; font-family: Tahoma\, Geneva\, sans-serif\;" target="_blank">www.carriagehousecreations.com</a><span style="font-size: 16px\; caret-color: rgb(64\, 63\, 66)\; color: rgb(64\, 63\, 66)\; font-family: Tahoma\, Geneva\, sans-serif\;">&nbsp\;</span><span style="font-size: 16px\; font-family: Tahoma\, Geneva\, sans-serif\; color: rgb(0\, 0\, 0)\;">&nbsp\;for only $27.95. (Fresh pasta not included).&nbsp\;If your Valentine is&nbsp\;</span><span style="font-size: 16px\; font-family: Tahoma\, Geneva\, sans-serif\; color: rgb(0\, 0\, 0)\; font-weight: bold\;">&ldquo\;HOT STUFF&rdquo\;</span><span style="font-size: 16px\; font-family: Tahoma\, Geneva\, sans-serif\; color: rgb(0\, 0\, 0)\;">&nbsp\;or likes &ldquo\;HOT STUFF&rdquo\;\, order a box of hot olive salsa\, hot pepper mustard\, hot pepper jam (all full-size jars) for $19.95. For the chocolate lover\, order the&nbsp\;</span><span style="font-size: 16px\; font-family: Tahoma\, Geneva\, sans-serif\; color: rgb(0\, 0\, 0)\; font-weight: bold\;">&ldquo\;CHOCLOATE LOVE&rdquo\;</span><span style="font-size: 16px\; font-family: Tahoma\, Geneva\, sans-serif\; color: rgb(0\, 0\, 0)\;">&nbsp\;box that includes all three jars of 4-ounce chocolate sauces: chocolate covered strawberry\, double chocolate raspberry truffle\, or chocolate raspberry chipotle for $15.95.<br />\n<br />\nAll orders can be placed online at</span><span style="font-size: 16px\; caret-color: rgb(64\, 63\, 66)\; color: rgb(64\, 63\, 66)\; font-family: Tahoma\, Geneva\, sans-serif\;">&nbsp\;</span><a data-saferedirecturl="https://www.google.com/url?q=http://r20.rs6.net/tn.jsp?f%3D001fwJteCMDSu9ehFADj7Fws90eqqjwcJOLXWbSqjcibTr-QI9pzRhZRxlI9fWsKrK5opSibOilUywQfPPqcdl5AJntMwfff2_lGJybfhLPRT6jNA48warC-rLBFlJv5xdDhoUSFbRliieeKU3OGQmGhsTthKcZcto7%26c%3DU58hGBQGB7lAESaxi7RpVlMAl3j_8YbD_-rRREbnSwMYs2D7QpscPg%3D%3D%26ch%3Dz1rkFMPtN-_1mwGYu_AenDwM2RaThIvgWx1TriKL1s-fFVLH_mb6nw%3D%3D&amp\;source=gmail&amp\;ust=1611109083838000&amp\;usg=AFQjCNEtf6JH3Pb9r1c_GKi1oWeKV5TCAg" href="http://r20.rs6.net/tn.jsp?f=001fwJteCMDSu9ehFADj7Fws90eqqjwcJOLXWbSqjcibTr-QI9pzRhZRxlI9fWsKrK5opSibOilUywQfPPqcdl5AJntMwfff2_lGJybfhLPRT6jNA48warC-rLBFlJv5xdDhoUSFbRliieeKU3OGQmGhsTthKcZcto7&amp\;c=U58hGBQGB7lAESaxi7RpVlMAl3j_8YbD_-rRREbnSwMYs2D7QpscPg==&amp\;ch=z1rkFMPtN-_1mwGYu_AenDwM2RaThIvgWx1TriKL1s-fFVLH_mb6nw==" rel="noopener noreferrer" style="font-size: 16px\; color: rgb(72\, 161\, 153)\; font-family: Tahoma\, Geneva\, sans-serif\;" target="_blank">www.carriagehousecreations.com</a><span style="font-size: 16px\; caret-color: rgb(64\, 63\, 66)\; color: rgb(64\, 63\, 66)\; font-family: Tahoma\, Geneva\, sans-serif\;">&nbsp\;</span><span style="font-size: 16px\; font-family: Tahoma\, Geneva\, sans-serif\; color: rgb(0\, 0\, 0)\;">or by phone 2/5/2021.</span>
LOCATION:Carriage House Creations 63 Morgan Road DuBois\, PA 15801
UID:e.3348.2133
SEQUENCE:3
DTSTAMP:20260421T084633Z
URL:https://www.duboispachamber.com/events/details/valentine-s-box-pick-up-2133
END:VEVENT

END:VCALENDAR
