BEGIN:VCALENDAR
VERSION:2.0
PRODID:-//ChamberMaster//Event Calendar 2.0//EN
METHOD:PUBLISH
X-PUBLISHED-TTL:P3D
REFRESH-INTERVAL:P3D
CALSCALE:GREGORIAN
BEGIN:VEVENT
DTSTART:20250128T230000Z
DTEND:20250129T000000Z
X-MICROSOFT-CDO-ALLDAYEVENT:FALSE
SUMMARY:Virtual Open House
DESCRIPTION:The Public House on Jared hosts Music Bingo on \n\n Thursday\, January 23 from 6 to 9 pm. Reservations highly recommended. Call 814.503.8032.
X-ALT-DESC;FMTTYPE=text/html:<p align="center" style="text-align:center"><b><span style="font-family:&quot\;Tahoma&quot\;\,sans-serif\;\ncolor:black">The Public House on Jared</span></b><span style="font-family:&quot\;Tahoma&quot\;\,sans-serif\;\ncolor:black"> hosts <b>Music Bingo</b> on </span><span style="font-family:&quot\;Arial&quot\;\,sans-serif\;\ncolor:#36495F"><o:p></o:p></span></p>\n\n<p align="center" style="text-align:center"><b><span style="font-family:&quot\;Tahoma&quot\;\,sans-serif\;\ncolor:black">&#65279\;</span></b><b><span style="font-family:&quot\;Tahoma&quot\;\,sans-serif\;\ncolor:#0F9ED5">Thursday\, January 23 </span></b><b><span style="font-family:\n&quot\;Tahoma&quot\;\,sans-serif\;color:black">from 6 to 9 pm.</span></b><span style="font-family:&quot\;Tahoma&quot\;\,sans-serif\;color:black"> Reservations highly recommended. Call 814.503.8032.</span><span style="font-family:&quot\;Arial&quot\;\,sans-serif\;\ncolor:#36495F"><o:p></o:p></span></p>\n
LOCATION:
UID:e.3348.3902
SEQUENCE:3
DTSTAMP:20260426T014559Z
URL:https://www.duboispachamber.com/events/details/virtual-open-house-3902
END:VEVENT

END:VCALENDAR
