BEGIN:VCALENDAR
VERSION:2.0
PRODID:-//ChamberMaster//Event Calendar 2.0//EN
METHOD:PUBLISH
X-PUBLISHED-TTL:P3D
REFRESH-INTERVAL:P3D
CALSCALE:GREGORIAN
BEGIN:VEVENT
DTSTART:20210721T210000Z
DTEND:20210722T003000Z
X-MICROSOFT-CDO-ALLDAYEVENT:FALSE
SUMMARY:Webinar: First Step to Starting a Business
DESCRIPTION:Are you wanting to start a business? The Clarion Small Business Development Center is holding a seminar "First Step: Starting a Small Business in Pennsylvania". This monthly webinar provides an overview on the steps to start a business along with an in-depth look at a business plan. Topics include: business registrations\, licenses\, business structures\, taxation\, research tools\, and what to expect in financing.\n\n\n\nTo register\, click the link https://pasbdc.ecenterdirect.com/events/28106
X-ALT-DESC;FMTTYPE=text/html:<strong><span style="color:black\;"><span style="font-family:tahoma\,sans-serif\;"><span style="font-size:12.0pt\;">Are you wanting to start a business?&mdash\;</span></span></span></strong><span style="color:black\;"><span style="font-family:tahoma\,sans-serif\;"><span style="font-size:12.0pt\;">The <strong>Clarion Small Business Development Center</strong> is holding a seminar <strong>&ldquo\;First Step: Starting a Small Business in Pennsylvania&rdquo\;.&nbsp\;</strong></span></span></span><span style="color:black\;"><span style="font-family:tahoma\,sans-serif\;"><span style="font-size:12.0pt\;">This monthly webinar provides an overview on the steps to start a business along with an in-depth look at a business plan. Topics include: business registrations\, licenses\, business structures\, taxation\, research tools\, and what to expect in financing.<br />\n<br />\nTo register\, click the link </span></span></span><span style="color:#403F42\;"><span style="font-family:arial\,sans-serif\;"><span style="font-size:9.0pt\;"><a href="https://r20.rs6.net/tn.jsp?f=001HuXEXT7ylLTKBOrTNYYL-4Z3nU-aPtJZrfAluJxMFKs3l944-QngPRb4iLet2WcfBuctK2tMCE9xKQrpvzpQtoQCTIKv6vAn8wl3fjY3gEUhnB7j8ue5hjTJiMECO93IOJ_LCqYBP1c0suhdJivSemUGrRkhMCmbLvFkoZf7HNPg16PPTNPD_Q==&amp\;c=cRhjOvBv837v5i5tHi_TfILW-xJJdVXeZISSsZoG78i3cXo3ilTnSA==&amp\;ch=lpwnUbxpPjeEILgnjn9ug2cVyrKJsXBqG8vseloP1nXb4HtovQUKvA==" target="_blank"><span style="color:#368A9C\;"><span style="font-family:tahoma\,sans-serif\;"><span style="font-size:12.0pt\;">https://pasbdc.ecenterdirect.com/events/28106</span></span></span></a></span></span></span>
LOCATION:Webinar
UID:e.3348.2334
SEQUENCE:3
DTSTAMP:20260421T185455Z
URL:https://www.duboispachamber.com/events/details/webinar-first-step-to-starting-a-business-2334
END:VEVENT

END:VCALENDAR
