BEGIN:VCALENDAR
VERSION:2.0
PRODID:-//ChamberMaster//Event Calendar 2.0//EN
METHOD:PUBLISH
X-PUBLISHED-TTL:P3D
REFRESH-INTERVAL:P3D
CALSCALE:GREGORIAN
BEGIN:VEVENT
DTSTART:20210807T130000Z
DTEND:20210807T163000Z
X-MICROSOFT-CDO-ALLDAYEVENT:FALSE
SUMMARY:Webinar: First Step to Starting a Business
DESCRIPTION:Are you starting a new business? -- The Clarion Small Business Development Center will be holding a free webinar\, "First Step: Starting A Small Business in Pennsylvania". Topics include: business registrations\, licenses\, business structures\, taxation\, research tools\, and what to expect when financing your business.\n\n\n\nTo register\, visit https://pasbdc.ecenterdirect.com/events/28100.
X-ALT-DESC;FMTTYPE=text/html:<span style="font-size: 16px\; color: black\; font-weight: bold\; font-family: Tahoma\, Geneva\, sans-serif\;">Are you starting a new business? -- The Clarion Small Business Development Center</span><span style="font-size: 16px\; color: black\; font-family: Tahoma\, Geneva\, sans-serif\;">&nbsp\;will be holding a&nbsp\;</span><span style="font-size: 16px\; color: black\; font-family: Tahoma\, Geneva\, sans-serif\; font-weight: bold\;">free webinar\, &ldquo\;First Step: Starting A Small Business in Pennsylvania&rdquo\;.</span><span style="font-size: 16px\; color: black\; font-family: Tahoma\, Geneva\, sans-serif\;">&nbsp\;Topics include: business registrations\, licenses\, business structures\, taxation\, research tools\, and what to expect when financing your business.<br />\n<br />\nTo register\, visit&nbsp\;</span><a data-saferedirecturl="https://www.google.com/url?q=https://r20.rs6.net/tn.jsp?f%3D0019yTQKVjbHV9ZIXWJLKqWlVWPH1vFsyuF18W1vnDp64mSLZ1TyoFEp1QFWJiO83r2ieZ6zkqra_GxZfND2Zo63I9EKovEca_XsEWHYwCvGOqyoaD4cofGBjOk-KdWQykqrV5wt5rpKVlshMcFO9afnA6Os8cpsve4JFmmJrOZGw29swx_mn9xGw%3D%3D%26c%3DMcai9v-5rSidjMcb6l4cxVf9XLprHIlMDTol0kpuSnD_ZH_dQw14kg%3D%3D%26ch%3DBM75Zy2rOslTlIOzmn7vDBm18IFzsSOZ5xtya10WNZ0vLpvJNqIBYw%3D%3D&amp\;source=gmail&amp\;ust=1627997181030000&amp\;usg=AFQjCNGBXnZSz-6lW94ToNGoxD9yniX1bA" href="https://r20.rs6.net/tn.jsp?f=0019yTQKVjbHV9ZIXWJLKqWlVWPH1vFsyuF18W1vnDp64mSLZ1TyoFEp1QFWJiO83r2ieZ6zkqra_GxZfND2Zo63I9EKovEca_XsEWHYwCvGOqyoaD4cofGBjOk-KdWQykqrV5wt5rpKVlshMcFO9afnA6Os8cpsve4JFmmJrOZGw29swx_mn9xGw==&amp\;c=Mcai9v-5rSidjMcb6l4cxVf9XLprHIlMDTol0kpuSnD_ZH_dQw14kg==&amp\;ch=BM75Zy2rOslTlIOzmn7vDBm18IFzsSOZ5xtya10WNZ0vLpvJNqIBYw==" rel="noopener noreferrer" style="color: rgb(54\, 138\, 156)\; font-size: 16px\; font-family: Tahoma\, Geneva\, sans-serif\;" target="_blank">https://pasbdc.ecenterdirect.<wbr />com/events/28100</a><span style="font-size: 16px\; color: black\; font-family: Tahoma\, Geneva\, sans-serif\;">.</span>
LOCATION:Webinar
UID:e.3348.2346
SEQUENCE:3
DTSTAMP:20260421T234315Z
URL:https://www.duboispachamber.com/events/details/webinar-first-step-to-starting-a-business-2346
END:VEVENT

END:VCALENDAR
