BEGIN:VCALENDAR
VERSION:2.0
PRODID:-//ChamberMaster//Event Calendar 2.0//EN
METHOD:PUBLISH
X-PUBLISHED-TTL:P3D
REFRESH-INTERVAL:P3D
CALSCALE:GREGORIAN
BEGIN:VEVENT
DTSTART:20200429T170000Z
DTEND:20200429T180000Z
X-MICROSOFT-CDO-ALLDAYEVENT:FALSE
SUMMARY:Winery at Wilcox Book Club
DESCRIPTION:The Winery at Wilcox in the DuBois Mall will hold Book Club meetings on the last Wednesday of the month from January through April. April's book is Bone White by Ronald Malfi. Bradley's Books will handle discussion and questions. The cost is $5.00 and includes a glass of wine and light snacks. For more information call 814-375-6885 or email duboiswineshop@wineryatwilcox.net.
X-ALT-DESC;FMTTYPE=text/html:The Winery at Wilcox in the DuBois Mall will hold Book Club meetings on the last Wednesday of the month from January through April. April&#39\;s book is Bone White by Ronald Malfi. Bradley&#39\;s Books will handle discussion and questions. The cost is $5.00 and includes a glass of wine and light snacks. For more information call 814-375-6885 or email duboiswineshop@wineryatwilcox.net.
LOCATION:Winery at Wilcox DuBois Mall 5522 Shaffer Road DuBois\, PA 15801
UID:e.3348.1788
SEQUENCE:3
DTSTAMP:20260419T193205Z
URL:https://www.duboispachamber.com/events/details/winery-at-wilcox-book-club-1788
END:VEVENT

END:VCALENDAR
