BEGIN:VCALENDAR
VERSION:2.0
PRODID:-//ChamberMaster//Event Calendar 2.0//EN
METHOD:PUBLISH
X-PUBLISHED-TTL:P3D
REFRESH-INTERVAL:P3D
CALSCALE:GREGORIAN
BEGIN:VEVENT
DTSTART:20200216T190000Z
DTEND:20200216T210000Z
X-MICROSOFT-CDO-ALLDAYEVENT:FALSE
SUMMARY:Winery at Wilcox: Galentine's Day Girls Day Out!
DESCRIPTION:Enjoy a donut pairing--featuring Scotty's Donuts--with your favorite wine! Crafting wine glass charms!
X-ALT-DESC;FMTTYPE=text/html:Enjoy a donut pairing--featuring Scotty&#39\;s Donuts--with your favorite wine! Crafting wine glass charms!
LOCATION:Winery at Wilcox DuBois Mall 5522 Shaffer Road DuBois\, PA 15801
UID:e.3348.1815
SEQUENCE:3
DTSTAMP:20260421T072006Z
URL:https://www.duboispachamber.com/events/details/winery-at-wilcox-galentine-s-day-girls-day-out-1815
END:VEVENT

END:VCALENDAR
