BEGIN:VCALENDAR
VERSION:2.0
PRODID:-//ChamberMaster//Event Calendar 2.0//EN
METHOD:PUBLISH
X-PUBLISHED-TTL:P3D
REFRESH-INTERVAL:P3D
CALSCALE:GREGORIAN
BEGIN:VEVENT
DTSTART:20191122T230000Z
DTEND:20191123T010000Z
X-MICROSOFT-CDO-ALLDAYEVENT:FALSE
SUMMARY:Winery at Wilcox: Wine & Gobs
DESCRIPTION:The Winery at Wilcox Wine & Gobs event will pair five homemade gobs\, with five of our wines. Charge will be $15 plus tax per person. RSVP & pay by Monday November 18th .
X-ALT-DESC;FMTTYPE=text/html:The Winery at Wilcox Wine &amp\; Gobs event will pair five homemade gobs\, with five of our wines. Charge will be $15 plus tax per person. RSVP &amp\; pay by Monday November 18th .
LOCATION:Winery at Wilcox DuBois Mall 5522 Shaffer Road DuBois\, PA 15801
UID:e.3348.1732
SEQUENCE:3
DTSTAMP:20260426T022153Z
URL:https://www.duboispachamber.com/events/details/winery-at-wilcox-wine-gobs-1732
END:VEVENT

END:VCALENDAR
